

BEGIN:VCALENDAR
VERSION:2.0
PRODID:-//Claremont Process Nexus - ECPv6.0.10//NONSGML v1.0//EN
CALSCALE:GREGORIAN
METHOD:PUBLISH
X-ORIGINAL-URL:https://staging.processnexus.net
X-WR-CALDESC:Events for Claremont Process Nexus
REFRESH-INTERVAL;VALUE=DURATION:PT1H
X-Robots-Tag:noindex
X-PUBLISHED-TTL:PT1H
BEGIN:VTIMEZONE
TZID:America/Los_Angeles
BEGIN:DAYLIGHT
TZOFFSETFROM:-0800
TZOFFSETTO:-0700
TZNAME:PDT
DTSTART:20210314T100000
END:DAYLIGHT
BEGIN:STANDARD
TZOFFSETFROM:-0700
TZOFFSETTO:-0800
TZNAME:PST
DTSTART:20211107T090000
END:STANDARD
END:VTIMEZONE
BEGIN:VEVENT
DTSTART;TZID=America/Los_Angeles:20211026T173000
DTEND;TZID=America/Los_Angeles:20211026T190000
DTSTAMP:20260422T090810
CREATED:20211021T165429Z
LAST-MODIFIED:20211022T052214Z
UID:10000123-1635269400-1635274800@staging.processnexus.net
SUMMARY:Flagstaff College: The Flagstaff 3.5% Reading-Action Project
DESCRIPTION:October 26-November 18\, 2021: A community-wide reading-action project focused on the climate crisis. We’re reading Kim Stanley Robinson’s\, The Ministry for the Future (face-to-face and online groups available) and gathering via Zoom for three in-depth presentations on topics related to the book. All are welcome to join. To sign up go to our website at www.FlagstaffCollege.education/rag. When 3.5% of the population actively engages\, social change can happen!
URL:https://staging.processnexus.net/event/flagstaff-college-the-flagstaff-3-5-reading-action-project/
CATEGORIES:Action Group
ATTACH;FMTTYPE=image/jpeg:https://staging.processnexus.net/wp-content/uploads/2021/10/FlagCollegeLogo.jpg
ORGANIZER;CN="SandraLubarsky%40gmail.com":MAILTO:SandraLubarsky@gmail.com
END:VEVENT
END:VCALENDAR