

BEGIN:VCALENDAR
VERSION:2.0
PRODID:-//Claremont Process Nexus - ECPv6.0.10//NONSGML v1.0//EN
CALSCALE:GREGORIAN
METHOD:PUBLISH
X-ORIGINAL-URL:https://staging.processnexus.net
X-WR-CALDESC:Events for Claremont Process Nexus
REFRESH-INTERVAL;VALUE=DURATION:PT1H
X-Robots-Tag:noindex
X-PUBLISHED-TTL:PT1H
BEGIN:VTIMEZONE
TZID:America/Los_Angeles
BEGIN:DAYLIGHT
TZOFFSETFROM:-0800
TZOFFSETTO:-0700
TZNAME:PDT
DTSTART:20230312T100000
END:DAYLIGHT
BEGIN:STANDARD
TZOFFSETFROM:-0700
TZOFFSETTO:-0800
TZNAME:PST
DTSTART:20231105T090000
END:STANDARD
END:VTIMEZONE
BEGIN:VEVENT
DTSTART;TZID=America/Los_Angeles:20230731T150000
DTEND;TZID=America/Los_Angeles:20230804T100000
DTSTAMP:20260422T045225
CREATED:20230330T093008Z
LAST-MODIFIED:20230330T094850Z
UID:10000186-1690815600-1691143200@staging.processnexus.net
SUMMARY:Thirteenth Biennial Personalist Seminar: Whitehead and Berdyaev
DESCRIPTION:In the 1957 Journal of Religion Charles Hartshorne published an important article “Whitehead and Berdyaev: Is There Tragedy in God?” The Thirteenth Personalist Seminar will center around Alfred N. Whitehead and Nicolas Berdyaev\, with separate days devoted to different aspects of their work. The first day will introduce the group to Whitehead and Berdyaev in their contexts. These discussions will be led by George Lucas. Distinguished Chair in Ethics in the Vice Admiral James B. Stockdale Center for Ethical Leadership at the U.S. Naval Academy\, Emeritus. Currently Professor of ethics and public policy at the Graduate School of Public Policy at the Naval Postgraduate School and Daniel Dombrowski\, Professor of Philosophy University of Seattle\, Editor\, Process Studies. The remaining days each participant will be responsible for a specific text and/or aspect\, or present a paper on Whitehead or Berdyaev and will help lead that part of the discussion. \n\n\n\n\nLearn More
URL:https://staging.processnexus.net/event/thirteenth-biennial-personalist-seminar-whitehead-and-berdyaev/
LOCATION:American Institute for Philosophical and Cultural Thought\, 411 N 9th St\, Murphysboro\, Illinois\, 62966\, United States
CATEGORIES:Conference,Workshop
ATTACH;FMTTYPE=image/png:https://staging.processnexus.net/wp-content/uploads/2023/03/Personalist-Seminar-on-Whitehead-and-Berdyaev-Header.png
END:VEVENT
END:VCALENDAR